BEGIN:VCALENDAR
VERSION:2.0
PRODID:-//Bad Driburger Bürgerschützengilde - ECPv6.15.20//NONSGML v1.0//EN
CALSCALE:GREGORIAN
METHOD:PUBLISH
X-WR-CALNAME:Bad Driburger Bürgerschützengilde
X-ORIGINAL-URL:https://www.buergerschuetzengilde.de
X-WR-CALDESC:Veranstaltungen für Bad Driburger Bürgerschützengilde
REFRESH-INTERVAL;VALUE=DURATION:PT1H
X-Robots-Tag:noindex
X-PUBLISHED-TTL:PT1H
BEGIN:VTIMEZONE
TZID:Europe/Berlin
BEGIN:DAYLIGHT
TZOFFSETFROM:+0100
TZOFFSETTO:+0200
TZNAME:CEST
DTSTART:20220327T010000
END:DAYLIGHT
BEGIN:STANDARD
TZOFFSETFROM:+0200
TZOFFSETTO:+0100
TZNAME:CET
DTSTART:20221030T010000
END:STANDARD
BEGIN:DAYLIGHT
TZOFFSETFROM:+0100
TZOFFSETTO:+0200
TZNAME:CEST
DTSTART:20230326T010000
END:DAYLIGHT
BEGIN:STANDARD
TZOFFSETFROM:+0200
TZOFFSETTO:+0100
TZNAME:CET
DTSTART:20231029T010000
END:STANDARD
BEGIN:DAYLIGHT
TZOFFSETFROM:+0100
TZOFFSETTO:+0200
TZNAME:CEST
DTSTART:20240331T010000
END:DAYLIGHT
BEGIN:STANDARD
TZOFFSETFROM:+0200
TZOFFSETTO:+0100
TZNAME:CET
DTSTART:20241027T010000
END:STANDARD
END:VTIMEZONE
BEGIN:VEVENT
DTSTART;TZID=Europe/Berlin:20230506T160000
DTEND;TZID=Europe/Berlin:20230506T180000
DTSTAMP:20260421T215013
CREATED:20230205T185230Z
LAST-MODIFIED:20230205T185230Z
UID:14263-1683388800-1683396000@www.buergerschuetzengilde.de
SUMMARY:Kompanieschießen der Dritten\, zusammen mit der 4.Kompanie
DESCRIPTION:Das Kompanieschießen der 3.Kompanie im Mai 2023 findet am 06.05. statt. Zu Gast sind bei diesem Schießen unsere Schützenkameraden der 4.Kompanie. \nBeginn ist um 16:00. Annahmeschluss um 18:00. Danach wieder open-end. \nFür das leibliche Wohl ist durch unseren Versorgungsoffizier Karsten Kappenberg wie immer gesorgt. \nKommt zahlreich zum Schießstand und lasst uns gemeinsam mit den Schützenbrüdern der 4.Kompanie schöne Stunden bei netten Gesprächen und guter Laune verbringen.
URL:https://www.buergerschuetzengilde.de/event/kompanieschiessen-der-dritten-zusammen-mit-der-4-kompanie/
LOCATION:Schießstand der Bad Driburger Bürgerschützengilde\, Schützenstraße\, Bad Driburg\, 33014\, Deutschland
CATEGORIES:3. Kompanie
END:VEVENT
END:VCALENDAR